BEGIN:VCALENDAR
VERSION:2.0
PRODID:-//Gesund in Vorpommern - ECPv6.15.18//NONSGML v1.0//EN
CALSCALE:GREGORIAN
METHOD:PUBLISH
X-ORIGINAL-URL:https://gesund-in-vorpommern.de
X-WR-CALDESC:Veranstaltungen für Gesund in Vorpommern
REFRESH-INTERVAL;VALUE=DURATION:PT1H
X-Robots-Tag:noindex
X-PUBLISHED-TTL:PT1H
BEGIN:VTIMEZONE
TZID:Europe/Berlin
BEGIN:DAYLIGHT
TZOFFSETFROM:+0100
TZOFFSETTO:+0200
TZNAME:CEST
DTSTART:20240331T010000
END:DAYLIGHT
BEGIN:STANDARD
TZOFFSETFROM:+0200
TZOFFSETTO:+0100
TZNAME:CET
DTSTART:20241027T010000
END:STANDARD
BEGIN:DAYLIGHT
TZOFFSETFROM:+0100
TZOFFSETTO:+0200
TZNAME:CEST
DTSTART:20250330T010000
END:DAYLIGHT
BEGIN:STANDARD
TZOFFSETFROM:+0200
TZOFFSETTO:+0100
TZNAME:CET
DTSTART:20251026T010000
END:STANDARD
BEGIN:DAYLIGHT
TZOFFSETFROM:+0100
TZOFFSETTO:+0200
TZNAME:CEST
DTSTART:20260329T010000
END:DAYLIGHT
BEGIN:STANDARD
TZOFFSETFROM:+0200
TZOFFSETTO:+0100
TZNAME:CET
DTSTART:20261025T010000
END:STANDARD
END:VTIMEZONE
BEGIN:VEVENT
DTSTART;TZID=Europe/Berlin:20250528T153000
DTEND;TZID=Europe/Berlin:20250528T170000
DTSTAMP:20260423T170936
CREATED:20250203T153528Z
LAST-MODIFIED:20250302T164919Z
UID:761-1748446200-1748451600@gesund-in-vorpommern.de
SUMMARY:Medizinforum „Wie erkenne ich einen Schlaganfall und was kann ich tun.“
DESCRIPTION:Am 28.05.2025 lädt Frau Susanne Letzel\, Leitende Oberärztin der Klinik für Neurologie\, Sie herzlich zum Medizinforum „Wie erkenne ich einen Schlaganfall und was kann ich tun.“ ein. \nBeginn ist um 15:30 Uhr im Sport- und Veranstaltungssaal im Ameos Klinikum Ueckermünde. Im Anschluss des Vortrages können Sie durch Ihre individuellen Fragen in den persönlichen Austausch mit den Referenten treten.
URL:https://gesund-in-vorpommern.de/event/medizinforum-wie-erkenne-ich-einen-schlaganfall-und-was-kann-ich-tun/
LOCATION:Veranstaltungssaal im Therapiezentrum (Haus 4) im AMEOS Klinikum Ueckermünde\, Ueckermünde\, 17373\, Deutschland
CATEGORIES:Medizinforum
END:VEVENT
END:VCALENDAR