BEGIN:VCALENDAR
VERSION:2.0
PRODID:-//Gesund in Vorpommern - ECPv6.15.18//NONSGML v1.0//EN
CALSCALE:GREGORIAN
METHOD:PUBLISH
X-ORIGINAL-URL:https://gesund-in-vorpommern.de
X-WR-CALDESC:Veranstaltungen für Gesund in Vorpommern
REFRESH-INTERVAL;VALUE=DURATION:PT1H
X-Robots-Tag:noindex
X-PUBLISHED-TTL:PT1H
BEGIN:VTIMEZONE
TZID:Europe/Berlin
BEGIN:DAYLIGHT
TZOFFSETFROM:+0100
TZOFFSETTO:+0200
TZNAME:CEST
DTSTART:20240331T010000
END:DAYLIGHT
BEGIN:STANDARD
TZOFFSETFROM:+0200
TZOFFSETTO:+0100
TZNAME:CET
DTSTART:20241027T010000
END:STANDARD
BEGIN:DAYLIGHT
TZOFFSETFROM:+0100
TZOFFSETTO:+0200
TZNAME:CEST
DTSTART:20250330T010000
END:DAYLIGHT
BEGIN:STANDARD
TZOFFSETFROM:+0200
TZOFFSETTO:+0100
TZNAME:CET
DTSTART:20251026T010000
END:STANDARD
BEGIN:DAYLIGHT
TZOFFSETFROM:+0100
TZOFFSETTO:+0200
TZNAME:CEST
DTSTART:20260329T010000
END:DAYLIGHT
BEGIN:STANDARD
TZOFFSETFROM:+0200
TZOFFSETTO:+0100
TZNAME:CET
DTSTART:20261025T010000
END:STANDARD
END:VTIMEZONE
BEGIN:VEVENT
DTSTART;VALUE=DATE:20251008
DTEND;VALUE=DATE:20251012
DTSTAMP:20260421T135425
CREATED:20250507T131714Z
LAST-MODIFIED:20250605T122627Z
UID:867-1759881600-1760227199@gesund-in-vorpommern.de
SUMMARY:2. Interdisziplinärer Sonographie-Grundkurs am Haff
DESCRIPTION:Die Gesundheitsregion Vorpommern GmbH lädt herzlich zum Sonographie-Grundkurs unter der Leitung von Dr. med. J. Spengler (DEGUM III) ein. \nKursgebühr:750\,00 € (ermäßigt 650\,00 € für HaffNet- und AMEOS-Mitglieder)Inklusive: Frühstück\, Mittagessen\, Nachmittagssnack und Teilnahmezertifikat \nKursleitung:Dr. med. Jörg Spengler – DEGUM-Kursleiter\, DEGUM III \nOrganisation: Dr. med. Thomas Kliewe \nFortbildungspunkte bei der Ärztekammer M-V beantragtAbschließendes DEGUM-Zertifikat \nAnmeldung & Kontakt:Gesundheitsregion Vorpommern GmbHRavensteinstraße 23\, 17373 Seebad Ueckermünde \nTelefon: 039771 537878 | E-Mail: info@gesund-in-vorpommern.de \nReferenten & Tutoren:Dr. med. Jörg Spengler • MUDR Julius Bok • Dr. med. Thomas Kliewe • Dr. med. Joachim Stock • Dr. med. Zoltán Jószef Kiss \nAlle Infos und den genauen Ablaufplan finden Sie hier im Flyer!
URL:https://gesund-in-vorpommern.de/event/2-interdisziplinaerer-sonographie-grundkurs-am-haff/
LOCATION:AMEOS Klinikum Ueckermünde\, Ravensteinstraße 23\, Ueckermünde\, 17373
CATEGORIES:Weiterbildung
END:VEVENT
END:VCALENDAR