BEGIN:VCALENDAR
VERSION:2.0
PRODID:-//Gesund in Vorpommern - ECPv6.15.18//NONSGML v1.0//EN
CALSCALE:GREGORIAN
METHOD:PUBLISH
X-WR-CALNAME:Gesund in Vorpommern
X-ORIGINAL-URL:https://gesund-in-vorpommern.de
X-WR-CALDESC:Veranstaltungen für Gesund in Vorpommern
REFRESH-INTERVAL;VALUE=DURATION:PT1H
X-Robots-Tag:noindex
X-PUBLISHED-TTL:PT1H
BEGIN:VTIMEZONE
TZID:Europe/Berlin
BEGIN:DAYLIGHT
TZOFFSETFROM:+0100
TZOFFSETTO:+0200
TZNAME:CEST
DTSTART:20240331T010000
END:DAYLIGHT
BEGIN:STANDARD
TZOFFSETFROM:+0200
TZOFFSETTO:+0100
TZNAME:CET
DTSTART:20241027T010000
END:STANDARD
BEGIN:DAYLIGHT
TZOFFSETFROM:+0100
TZOFFSETTO:+0200
TZNAME:CEST
DTSTART:20250330T010000
END:DAYLIGHT
BEGIN:STANDARD
TZOFFSETFROM:+0200
TZOFFSETTO:+0100
TZNAME:CET
DTSTART:20251026T010000
END:STANDARD
BEGIN:DAYLIGHT
TZOFFSETFROM:+0100
TZOFFSETTO:+0200
TZNAME:CEST
DTSTART:20260329T010000
END:DAYLIGHT
BEGIN:STANDARD
TZOFFSETFROM:+0200
TZOFFSETTO:+0100
TZNAME:CET
DTSTART:20261025T010000
END:STANDARD
END:VTIMEZONE
BEGIN:VEVENT
DTSTART;TZID=Europe/Berlin:20250625T153000
DTEND;TZID=Europe/Berlin:20250625T170000
DTSTAMP:20260423T171813
CREATED:20250203T153751Z
LAST-MODIFIED:20250302T164850Z
UID:763-1750865400-1750870800@gesund-in-vorpommern.de
SUMMARY:Medizinforum „Bauchschmerzen und Blähungen. Was hinter dem Reizdarmsyndrom steckt?“
DESCRIPTION:Am 25.06.2025 lädt Herr MUDr. Julius Bok\, Oberarzt der Klinik für Innere Medizin\, Sie herzlich zum Medizinforum „Bauchschmerzen und Blähungen. Was hinter dem Reizdarmsyndrom steckt?“. ein. \nBeginn ist um 15:30 Uhr im Sport- und Veranstaltungssaal im Ameos Klinikum Ueckermünde. Im Anschluss des Vortrages können Sie durch Ihre individuellen Fragen in den persönlichen Austausch mit den Referenten treten.
URL:https://gesund-in-vorpommern.de/event/medizinforum-bauchschmerzen-und-blaehungen-was-hinter-dem-reizdarmsyndrom-steckt/
LOCATION:Veranstaltungssaal im Therapiezentrum (Haus 4) im AMEOS Klinikum Ueckermünde\, Ueckermünde\, 17373\, Deutschland
CATEGORIES:Medizinforum
END:VEVENT
END:VCALENDAR